BEGIN:VCALENDAR
VERSION:2.0
PRODID:ASME
BEGIN:VEVENT
SUMMARY:Geometric Dimensioning & Tolerancing (GD&T) Fundamentals
DESCRIPTION:Geometric Dimensioning & Tolerancing (GD&T) Fundamentals
LOCATION:a0KTN00000MjVCf2AN a0KTN00000MjVCf2AN a0KTN00000MjVCf2AN a0KTN00000MjVCf2AN 
PRIORITY:3
DTSTART:20260511T000000
DTEND:20260512T000000
SEQUENCE: 0
END:VEVENT
END:VCALENDAR
