BEGIN:VCALENDAR
VERSION:2.0
PRODID:ASME
BEGIN:VEVENT
SUMMARY:Fracture Mechanics (Virtual Classroom)
DESCRIPTION:Fracture Mechanics (Virtual Classroom)
LOCATION:    
PRIORITY:3
DTSTART:20260421T000000
DTEND:20260423T000000
SEQUENCE: 0
END:VEVENT
END:VCALENDAR
