BEGIN:VCALENDAR
VERSION:2.0
PRODID:ASME
BEGIN:VEVENT
SUMMARY:ASME BPV Code Section III, Division 1: Rules for Construction of Nuclear Facility Components and USNRC Regulations
DESCRIPTION:ASME BPV Code Section III, Division 1: Rules for Construction of Nuclear Facility Components and USNRC Regulations
LOCATION:    
PRIORITY:3
DTSTART:20260423T000000
DTEND:20260428T000000
SEQUENCE: 0
END:VEVENT
END:VCALENDAR
