BEGIN:VCALENDAR
VERSION:2.0
PRODID:ASME
BEGIN:VEVENT
SUMMARY:Section Engagement Sector Meeting
DESCRIPTION:Section Engagement Sector Meeting
LOCATION:    
PRIORITY:3
DTSTART:20251024T080000
DTEND:20251024T090000
SEQUENCE: 0
END:VEVENT
END:VCALENDAR
