BEGIN:VCALENDAR
VERSION:2.0
PRODID:ASME
BEGIN:VEVENT
SUMMARY:ASME Nebraska Section: Professional Development Course - GIS Mapping, Smart Factories, & Nuclear Power (Hybrid Event)
DESCRIPTION:ASME Nebraska Section: Professional Development Course - GIS Mapping, Smart Factories, & Nuclear Power (Hybrid Event)
LOCATION:  Ashland Nebraska USA
PRIORITY:3
DTSTART:20251106T080000
DTEND:20251106T170000
SEQUENCE: 0
END:VEVENT
END:VCALENDAR
