BEGIN:VCALENDAR
VERSION:2.0
PRODID:ASME
BEGIN:VEVENT
SUMMARY:ASME B31.3 and B31.1 Practical Piping Design for Process and Power Applications (Virtual Classroom)
DESCRIPTION:ASME B31.3 and B31.1 Practical Piping Design for Process and Power Applications (Virtual Classroom)
LOCATION:    
PRIORITY:3
DTSTART:20260504T000000
DTEND:20260508T000000
SEQUENCE: 0
END:VEVENT
END:VCALENDAR
