BEGIN:VCALENDAR
VERSION:2.0
PRODID:ASME
BEGIN:VEVENT
SUMMARY:Pressure Relief Devices: Design, Sizing, Construction, Inspection and Maintenance (Virtual Classroom)
DESCRIPTION:Pressure Relief Devices: Design, Sizing, Construction, Inspection and Maintenance (Virtual Classroom)
LOCATION:    
PRIORITY:3
DTSTART:20260504T000000
DTEND:20260506T000000
SEQUENCE: 0
END:VEVENT
END:VCALENDAR
