BEGIN:VCALENDAR
VERSION:2.0
PRODID:ASME
BEGIN:VEVENT
SUMMARY:ASME Idaho Section: Swagelok Lunch and Learn
DESCRIPTION:ASME Idaho Section: Swagelok Lunch and Learn
LOCATION:BYU-Idaho Mark Austin Building Rexburg Idaho USA
PRIORITY:3
DTSTART:20230323T113000
DTEND:20230323T123000
SEQUENCE: 0
END:VEVENT
END:VCALENDAR
