BEGIN:VCALENDAR
VERSION:2.0
PRODID:ASME
BEGIN:VEVENT
SUMMARY:ASME San Antonio Section: Friday Fellowship
DESCRIPTION:ASME San Antonio Section: Friday Fellowship
LOCATION:The Cove 606 W Cypress St. San Antonio Texas USA
PRIORITY:3
DTSTART:20230310T183000
DTEND:20230310T203000
SEQUENCE: 0
END:VEVENT
END:VCALENDAR
