BEGIN:VCALENDAR
VERSION:2.0
PRODID:ASME
BEGIN:VEVENT
SUMMARY:ASME Apollo Subsection: Lone Star Blower Products & Services
DESCRIPTION:ASME Apollo Subsection: Lone Star Blower Products & Services
LOCATION:Lone Star Blower Products & Services 8883 W Monroe Rd. Houston Texas USA
PRIORITY:3
DTSTART:20230308T180000
DTEND:20230308T210000
SEQUENCE: 0
END:VEVENT
END:VCALENDAR
