BEGIN:VCALENDAR
VERSION:2.0
PRODID:ASME
BEGIN:VEVENT
SUMMARY:ASME Atlanta Section: Technical Talk: Commercial Nuclear Power 101
DESCRIPTION:ASME Atlanta Section: Technical Talk: Commercial Nuclear Power 101
LOCATION:Georgia Tech Kendeda Building 422 Ferst Dr NW Atlanta Georgia USA
PRIORITY:3
DTSTART:20230124T190000
DTEND:20230124T203000
SEQUENCE: 0
END:VEVENT
END:VCALENDAR
