BEGIN:VCALENDAR
VERSION:2.0
PRODID:ASME
BEGIN:VEVENT
SUMMARY:ASME Metro Detroit Section: Our World Changed: The Driver and the Automotive Industry Face a New Reality in the Transition to Electric Vehicles
DESCRIPTION:ASME Metro Detroit Section: Our World Changed: The Driver and the Automotive Industry Face a New Reality in the Transition to Electric Vehicles
LOCATION:    
PRIORITY:3
DTSTART:20230131T170000
DTEND:20230131T180000
SEQUENCE: 0
END:VEVENT
END:VCALENDAR
