BEGIN:VCALENDAR
VERSION:2.0
PRODID:ASME
BEGIN:VEVENT
SUMMARY:ASME Bluegrass Section: Magnetic Kinematic Interface Simulator
DESCRIPTION:ASME Bluegrass Section: Magnetic Kinematic Interface Simulator
LOCATION:Sutton's Restaurant 110 N. Locust Hill Drive Lexington Kentucky USA
PRIORITY:3
DTSTART:20221020T173000
DTEND:20221020T193000
SEQUENCE: 0
END:VEVENT
END:VCALENDAR
