BEGIN:VCALENDAR
VERSION:2.0
PRODID:ASME
BEGIN:VEVENT
SUMMARY:Student Leader Weekend - Atlanta 
DESCRIPTION:Student Leader Weekend - Atlanta 
LOCATION:Atlanta Marriott Buckhead Hotel & Conference Center 3405 Lenox Road NE Atlanta Georgia  USA
PRIORITY:3
DTSTART:20220930T140000
DTEND:20221001T150000
SEQUENCE: 0
END:VEVENT
END:VCALENDAR
