BEGIN:VCALENDAR
VERSION:2.0
PRODID:ASME
BEGIN:VEVENT
SUMMARY:ASME Columbia Basin Section: Lamb Weston Richland Plant Tour
DESCRIPTION:ASME Columbia Basin Section: Lamb Weston Richland Plant Tour
LOCATION:Lamb Weston Innovation Center 2011 Saint St. Richland Washington USA
PRIORITY:3
DTSTART:20220916T140000
DTEND:20220916T160000
SEQUENCE: 0
END:VEVENT
END:VCALENDAR
