BEGIN:VCALENDAR
VERSION:2.0
PRODID:ASME
BEGIN:VEVENT
SUMMARY:ASME Central Virginia Section: Richmond Joint Engineers Council (RJEC) Engineers Week Banquet
DESCRIPTION:ASME Central Virginia Section: Richmond Joint Engineers Council (RJEC) Engineers Week Banquet
LOCATION:The Jefferson Hotel 101 West Franklin Street Richmond Virginia USA
PRIORITY:3
DTSTART:20220421T170000
DTEND:20220421T203000
SEQUENCE: 0
END:VEVENT
END:VCALENDAR
