BEGIN:VCALENDAR
VERSION:2.0
PRODID:ASME
BEGIN:VEVENT
SUMMARY:B31.5 Section Committee Meeting
DESCRIPTION:B31.5 Section Committee Meeting
LOCATION:    
PRIORITY:3
DTSTART:20220216T000000
DTEND:20220216T000000
SEQUENCE: 0
END:VEVENT
END:VCALENDAR
