BEGIN:VCALENDAR
VERSION:2.0
PRODID:ASME
BEGIN:VEVENT
SUMMARY:ASME Greenville Section: Plastic Lined Piping - An Economical Solution to Tough Process Piping Conditions
DESCRIPTION:ASME Greenville Section: Plastic Lined Piping - An Economical Solution to Tough Process Piping Conditions
LOCATION:    
PRIORITY:3
DTSTART:20220127T183000
DTEND:20220127T203000
SEQUENCE: 0
END:VEVENT
END:VCALENDAR
