BEGIN:VCALENDAR
VERSION:2.0
PRODID:ASME
BEGIN:VEVENT
SUMMARY:ASME United Kingdom Section: ASME Community Worldwide - Research and Enterprise across Europe and USA
DESCRIPTION:ASME United Kingdom Section: ASME Community Worldwide - Research and Enterprise across Europe and USA
LOCATION:    
PRIORITY:3
DTSTART:20210128T170000
DTEND:20210128T183000
SEQUENCE: 0
END:VEVENT
END:VCALENDAR
