BEGIN:VCALENDAR
VERSION:2.0
PRODID:ASME
BEGIN:VEVENT
SUMMARY:ASME Petroleum Division OTC Golf Tournament
DESCRIPTION:ASME Petroleum Division OTC Golf Tournament
LOCATION:Blackhorse Golf Club 12205 Fry Road Cypress Texas USA
PRIORITY:3
DTSTART:20190504T000000
DTEND:20190504T140000
SEQUENCE: 0
END:VEVENT
END:VCALENDAR
